BEGIN:VCALENDAR
VERSION:2.0
PRODID:-//His Holy Hill Church - ECPv6.15.0//NONSGML v1.0//EN
CALSCALE:GREGORIAN
METHOD:PUBLISH
X-WR-CALNAME:His Holy Hill Church
X-ORIGINAL-URL:https://www.h3.church
X-WR-CALDESC:Events for His Holy Hill Church
REFRESH-INTERVAL;VALUE=DURATION:PT1H
X-Robots-Tag:noindex
X-PUBLISHED-TTL:PT1H
BEGIN:VTIMEZONE
TZID:America/New_York
BEGIN:DAYLIGHT
TZOFFSETFROM:-0500
TZOFFSETTO:-0400
TZNAME:EDT
DTSTART:20260308T070000
END:DAYLIGHT
BEGIN:STANDARD
TZOFFSETFROM:-0400
TZOFFSETTO:-0500
TZNAME:EST
DTSTART:20261101T060000
END:STANDARD
END:VTIMEZONE
BEGIN:VEVENT
DTSTART;TZID=America/New_York:20260426T090000
DTEND;TZID=America/New_York:20260823T110000
DTSTAMP:20260423T062059
CREATED:20260201T124531Z
LAST-MODIFIED:20260422T162256Z
UID:6520-1777194000-1787482800@www.h3.church
SUMMARY:God Man - Abiding in the tree of life
DESCRIPTION:
URL:https://www.h3.church/event/god-man-abiding-in-the-tree-of-life/2026-04-26/
LOCATION:H3 Church\, 1630 S. Church St\, Ste. 112-114\, Murfreesboro\, TN\, 37130\, United States
CATEGORIES:Sunday Event
ATTACH;FMTTYPE=image/png:https://www.h3.church/wp-content/uploads/2026/02/Media.png
END:VEVENT
BEGIN:VEVENT
DTSTART;TZID=America/New_York:20260503T090000
DTEND;TZID=America/New_York:20260830T110000
DTSTAMP:20260423T062059
CREATED:20260201T124531Z
LAST-MODIFIED:20260201T124531Z
UID:6633-1777798800-1788087600@www.h3.church
SUMMARY:God Man - Abiding in the tree of life
DESCRIPTION:
URL:https://www.h3.church/event/god-man-abiding-in-the-tree-of-life/2026-05-03/
LOCATION:H3 Church\, 1630 S. Church St\, Ste. 112-114\, Murfreesboro\, TN\, 37130\, United States
CATEGORIES:Sunday Event
ATTACH;FMTTYPE=image/png:https://www.h3.church/wp-content/uploads/2026/02/Media.png
END:VEVENT
BEGIN:VEVENT
DTSTART;TZID=America/New_York:20260503T110000
DTEND;TZID=America/New_York:20260503T120000
DTSTAMP:20260423T062059
CREATED:20260421T164540Z
LAST-MODIFIED:20260421T200905Z
UID:6608-1777806000-1777809600@www.h3.church
SUMMARY:ENGAGE - The first step of the Discipleship Pathway
DESCRIPTION:Join H3 for ENGAGE\, a 4-week journey designed to help you grow in your faith\, understand your identity in Christ\, and get connected at H3.
URL:https://www.h3.church/event/engage-the-first-step-of-the-discipleship-pathway-2/2026-05-03/
LOCATION:H3 Church\, 1630 S. Church St\, Ste. 112-114\, Murfreesboro\, TN\, 37130\, United States
ATTACH;FMTTYPE=image/jpeg:https://www.h3.church/wp-content/uploads/2026/04/Media-15-1.jpeg
END:VEVENT
BEGIN:VEVENT
DTSTART;TZID=America/New_York:20260503T110000
DTEND;TZID=America/New_York:20260503T130000
DTSTAMP:20260423T062059
CREATED:20260201T124531Z
LAST-MODIFIED:20260201T124531Z
UID:6634-1777806000-1777813200@www.h3.church
SUMMARY:God Man - Abiding in the tree of life
DESCRIPTION:
URL:https://www.h3.church/event/god-man-abiding-in-the-tree-of-life/2026-05-03/2/
LOCATION:H3 Church\, 1630 S. Church St\, Ste. 112-114\, Murfreesboro\, TN\, 37130\, United States
CATEGORIES:Sunday Event
ATTACH;FMTTYPE=image/png:https://www.h3.church/wp-content/uploads/2026/02/Media.png
END:VEVENT
BEGIN:VEVENT
DTSTART;TZID=America/New_York:20260510T090000
DTEND;TZID=America/New_York:20260906T110000
DTSTAMP:20260423T062059
CREATED:20260201T124531Z
LAST-MODIFIED:20260201T124531Z
UID:6635-1778403600-1788692400@www.h3.church
SUMMARY:God Man - Abiding in the tree of life
DESCRIPTION:
URL:https://www.h3.church/event/god-man-abiding-in-the-tree-of-life/2026-05-10/
LOCATION:H3 Church\, 1630 S. Church St\, Ste. 112-114\, Murfreesboro\, TN\, 37130\, United States
CATEGORIES:Sunday Event
ATTACH;FMTTYPE=image/png:https://www.h3.church/wp-content/uploads/2026/02/Media.png
END:VEVENT
BEGIN:VEVENT
DTSTART;TZID=America/New_York:20260510T110000
DTEND;TZID=America/New_York:20260510T120000
DTSTAMP:20260423T062059
CREATED:20260421T164540Z
LAST-MODIFIED:20260421T200906Z
UID:6609-1778410800-1778414400@www.h3.church
SUMMARY:ENGAGE - The first step of the Discipleship Pathway
DESCRIPTION:Join H3 for ENGAGE\, a 4-week journey designed to help you grow in your faith\, understand your identity in Christ\, and get connected at H3.
URL:https://www.h3.church/event/engage-the-first-step-of-the-discipleship-pathway-2/2026-05-10/
LOCATION:H3 Church\, 1630 S. Church St\, Ste. 112-114\, Murfreesboro\, TN\, 37130\, United States
ATTACH;FMTTYPE=image/jpeg:https://www.h3.church/wp-content/uploads/2026/04/Media-15-1.jpeg
END:VEVENT
BEGIN:VEVENT
DTSTART;TZID=America/New_York:20260510T110000
DTEND;TZID=America/New_York:20260510T130000
DTSTAMP:20260423T062059
CREATED:20260201T124531Z
LAST-MODIFIED:20260201T124531Z
UID:6636-1778410800-1778418000@www.h3.church
SUMMARY:God Man - Abiding in the tree of life
DESCRIPTION:
URL:https://www.h3.church/event/god-man-abiding-in-the-tree-of-life/2026-05-10/3/
LOCATION:H3 Church\, 1630 S. Church St\, Ste. 112-114\, Murfreesboro\, TN\, 37130\, United States
CATEGORIES:Sunday Event
ATTACH;FMTTYPE=image/png:https://www.h3.church/wp-content/uploads/2026/02/Media.png
END:VEVENT
BEGIN:VEVENT
DTSTART;TZID=America/New_York:20260517T090000
DTEND;TZID=America/New_York:20260913T110000
DTSTAMP:20260423T062059
CREATED:20260201T124531Z
LAST-MODIFIED:20260201T124531Z
UID:6637-1779008400-1789297200@www.h3.church
SUMMARY:God Man - Abiding in the tree of life
DESCRIPTION:
URL:https://www.h3.church/event/god-man-abiding-in-the-tree-of-life/2026-05-17/
LOCATION:H3 Church\, 1630 S. Church St\, Ste. 112-114\, Murfreesboro\, TN\, 37130\, United States
CATEGORIES:Sunday Event
ATTACH;FMTTYPE=image/png:https://www.h3.church/wp-content/uploads/2026/02/Media.png
END:VEVENT
BEGIN:VEVENT
DTSTART;TZID=America/New_York:20260517T110000
DTEND;TZID=America/New_York:20260517T120000
DTSTAMP:20260423T062059
CREATED:20260421T164540Z
LAST-MODIFIED:20260421T200906Z
UID:6610-1779015600-1779019200@www.h3.church
SUMMARY:ENGAGE - The first step of the Discipleship Pathway
DESCRIPTION:Join H3 for ENGAGE\, a 4-week journey designed to help you grow in your faith\, understand your identity in Christ\, and get connected at H3.
URL:https://www.h3.church/event/engage-the-first-step-of-the-discipleship-pathway-2/2026-05-17/
LOCATION:H3 Church\, 1630 S. Church St\, Ste. 112-114\, Murfreesboro\, TN\, 37130\, United States
ATTACH;FMTTYPE=image/jpeg:https://www.h3.church/wp-content/uploads/2026/04/Media-15-1.jpeg
END:VEVENT
BEGIN:VEVENT
DTSTART;TZID=America/New_York:20260517T110000
DTEND;TZID=America/New_York:20260517T130000
DTSTAMP:20260423T062059
CREATED:20260201T124531Z
LAST-MODIFIED:20260201T124531Z
UID:6638-1779015600-1779022800@www.h3.church
SUMMARY:God Man - Abiding in the tree of life
DESCRIPTION:
URL:https://www.h3.church/event/god-man-abiding-in-the-tree-of-life/2026-05-17/4/
LOCATION:H3 Church\, 1630 S. Church St\, Ste. 112-114\, Murfreesboro\, TN\, 37130\, United States
CATEGORIES:Sunday Event
ATTACH;FMTTYPE=image/png:https://www.h3.church/wp-content/uploads/2026/02/Media.png
END:VEVENT
BEGIN:VEVENT
DTSTART;TZID=America/New_York:20260520T180000
DTEND;TZID=America/New_York:20260520T210000
DTSTAMP:20260423T062059
CREATED:20260421T155535Z
LAST-MODIFIED:20260422T162855Z
UID:6606-1779300000-1779310800@www.h3.church
SUMMARY:EXPOUND - The second step of the Discipleship Pathway
DESCRIPTION:Join H3 for EXPOUND\, a 6-week class designed to help deepen your understanding of life in Christ and mature your walk with Christ.
URL:https://www.h3.church/event/expound/2026-05-20/
LOCATION:H3 Church\, 1630 S. Church St\, Ste. 112-114\, Murfreesboro\, TN\, 37130\, United States
ATTACH;FMTTYPE=image/jpeg:https://www.h3.church/wp-content/uploads/2026/04/Expound.jpeg
ORGANIZER;CN="H3 Church":MAILTO:hello@h3.church
END:VEVENT
BEGIN:VEVENT
DTSTART;TZID=America/New_York:20260524T090000
DTEND;TZID=America/New_York:20260920T110000
DTSTAMP:20260423T062059
CREATED:20260201T124531Z
LAST-MODIFIED:20260201T124531Z
UID:6639-1779613200-1789902000@www.h3.church
SUMMARY:God Man - Abiding in the tree of life
DESCRIPTION:
URL:https://www.h3.church/event/god-man-abiding-in-the-tree-of-life/2026-05-24/
LOCATION:H3 Church\, 1630 S. Church St\, Ste. 112-114\, Murfreesboro\, TN\, 37130\, United States
CATEGORIES:Sunday Event
ATTACH;FMTTYPE=image/png:https://www.h3.church/wp-content/uploads/2026/02/Media.png
END:VEVENT
BEGIN:VEVENT
DTSTART;TZID=America/New_York:20260524T110000
DTEND;TZID=America/New_York:20260524T120000
DTSTAMP:20260423T062059
CREATED:20260421T164540Z
LAST-MODIFIED:20260421T200907Z
UID:6611-1779620400-1779624000@www.h3.church
SUMMARY:ENGAGE - The first step of the Discipleship Pathway
DESCRIPTION:Join H3 for ENGAGE\, a 4-week journey designed to help you grow in your faith\, understand your identity in Christ\, and get connected at H3.
URL:https://www.h3.church/event/engage-the-first-step-of-the-discipleship-pathway-2/2026-05-24/
LOCATION:H3 Church\, 1630 S. Church St\, Ste. 112-114\, Murfreesboro\, TN\, 37130\, United States
ATTACH;FMTTYPE=image/jpeg:https://www.h3.church/wp-content/uploads/2026/04/Media-15-1.jpeg
END:VEVENT
BEGIN:VEVENT
DTSTART;TZID=America/New_York:20260524T110000
DTEND;TZID=America/New_York:20260524T130000
DTSTAMP:20260423T062059
CREATED:20260201T124531Z
LAST-MODIFIED:20260201T124531Z
UID:6640-1779620400-1779627600@www.h3.church
SUMMARY:God Man - Abiding in the tree of life
DESCRIPTION:
URL:https://www.h3.church/event/god-man-abiding-in-the-tree-of-life/2026-05-24/5/
LOCATION:H3 Church\, 1630 S. Church St\, Ste. 112-114\, Murfreesboro\, TN\, 37130\, United States
CATEGORIES:Sunday Event
ATTACH;FMTTYPE=image/png:https://www.h3.church/wp-content/uploads/2026/02/Media.png
END:VEVENT
BEGIN:VEVENT
DTSTART;TZID=America/New_York:20260527T180000
DTEND;TZID=America/New_York:20260527T210000
DTSTAMP:20260423T062059
CREATED:20260421T155535Z
LAST-MODIFIED:20260422T162855Z
UID:6624-1779904800-1779915600@www.h3.church
SUMMARY:EXPOUND - The second step of the Discipleship Pathway
DESCRIPTION:Join H3 for EXPOUND\, a 6-week class designed to help deepen your understanding of life in Christ and mature your walk with Christ.
URL:https://www.h3.church/event/expound/2026-05-27/
LOCATION:H3 Church\, 1630 S. Church St\, Ste. 112-114\, Murfreesboro\, TN\, 37130\, United States
ATTACH;FMTTYPE=image/jpeg:https://www.h3.church/wp-content/uploads/2026/04/Expound.jpeg
ORGANIZER;CN="H3 Church":MAILTO:hello@h3.church
END:VEVENT
BEGIN:VEVENT
DTSTART;TZID=America/New_York:20260531T090000
DTEND;TZID=America/New_York:20260927T110000
DTSTAMP:20260423T062059
CREATED:20260201T124531Z
LAST-MODIFIED:20260201T124531Z
UID:6641-1780218000-1790506800@www.h3.church
SUMMARY:God Man - Abiding in the tree of life
DESCRIPTION:
URL:https://www.h3.church/event/god-man-abiding-in-the-tree-of-life/2026-05-31/
LOCATION:H3 Church\, 1630 S. Church St\, Ste. 112-114\, Murfreesboro\, TN\, 37130\, United States
CATEGORIES:Sunday Event
ATTACH;FMTTYPE=image/png:https://www.h3.church/wp-content/uploads/2026/02/Media.png
END:VEVENT
BEGIN:VEVENT
DTSTART;TZID=America/New_York:20260531T110000
DTEND;TZID=America/New_York:20260531T130000
DTSTAMP:20260423T062059
CREATED:20260201T124531Z
LAST-MODIFIED:20260201T124531Z
UID:6642-1780225200-1780232400@www.h3.church
SUMMARY:God Man - Abiding in the tree of life
DESCRIPTION:
URL:https://www.h3.church/event/god-man-abiding-in-the-tree-of-life/2026-05-31/6/
LOCATION:H3 Church\, 1630 S. Church St\, Ste. 112-114\, Murfreesboro\, TN\, 37130\, United States
CATEGORIES:Sunday Event
ATTACH;FMTTYPE=image/png:https://www.h3.church/wp-content/uploads/2026/02/Media.png
END:VEVENT
BEGIN:VEVENT
DTSTART;TZID=America/New_York:20260603T180000
DTEND;TZID=America/New_York:20260603T210000
DTSTAMP:20260423T062059
CREATED:20260421T155535Z
LAST-MODIFIED:20260422T162855Z
UID:6625-1780509600-1780520400@www.h3.church
SUMMARY:EXPOUND - The second step of the Discipleship Pathway
DESCRIPTION:Join H3 for EXPOUND\, a 6-week class designed to help deepen your understanding of life in Christ and mature your walk with Christ.
URL:https://www.h3.church/event/expound/2026-06-03/
LOCATION:H3 Church\, 1630 S. Church St\, Ste. 112-114\, Murfreesboro\, TN\, 37130\, United States
ATTACH;FMTTYPE=image/jpeg:https://www.h3.church/wp-content/uploads/2026/04/Expound.jpeg
ORGANIZER;CN="H3 Church":MAILTO:hello@h3.church
END:VEVENT
BEGIN:VEVENT
DTSTART;TZID=America/New_York:20260607T090000
DTEND;TZID=America/New_York:20261004T110000
DTSTAMP:20260423T062059
CREATED:20260201T124531Z
LAST-MODIFIED:20260201T124531Z
UID:6643-1780822800-1791111600@www.h3.church
SUMMARY:God Man - Abiding in the tree of life
DESCRIPTION:
URL:https://www.h3.church/event/god-man-abiding-in-the-tree-of-life/2026-06-07/
LOCATION:H3 Church\, 1630 S. Church St\, Ste. 112-114\, Murfreesboro\, TN\, 37130\, United States
CATEGORIES:Sunday Event
ATTACH;FMTTYPE=image/png:https://www.h3.church/wp-content/uploads/2026/02/Media.png
END:VEVENT
BEGIN:VEVENT
DTSTART;TZID=America/New_York:20260607T110000
DTEND;TZID=America/New_York:20260607T130000
DTSTAMP:20260423T062059
CREATED:20260201T124531Z
LAST-MODIFIED:20260201T124531Z
UID:6644-1780830000-1780837200@www.h3.church
SUMMARY:God Man - Abiding in the tree of life
DESCRIPTION:
URL:https://www.h3.church/event/god-man-abiding-in-the-tree-of-life/2026-06-07/7/
LOCATION:H3 Church\, 1630 S. Church St\, Ste. 112-114\, Murfreesboro\, TN\, 37130\, United States
CATEGORIES:Sunday Event
ATTACH;FMTTYPE=image/png:https://www.h3.church/wp-content/uploads/2026/02/Media.png
END:VEVENT
BEGIN:VEVENT
DTSTART;TZID=America/New_York:20260610T180000
DTEND;TZID=America/New_York:20260610T210000
DTSTAMP:20260423T062059
CREATED:20260421T155535Z
LAST-MODIFIED:20260422T162856Z
UID:6626-1781114400-1781125200@www.h3.church
SUMMARY:EXPOUND - The second step of the Discipleship Pathway
DESCRIPTION:Join H3 for EXPOUND\, a 6-week class designed to help deepen your understanding of life in Christ and mature your walk with Christ.
URL:https://www.h3.church/event/expound/2026-06-10/
LOCATION:H3 Church\, 1630 S. Church St\, Ste. 112-114\, Murfreesboro\, TN\, 37130\, United States
ATTACH;FMTTYPE=image/jpeg:https://www.h3.church/wp-content/uploads/2026/04/Expound.jpeg
ORGANIZER;CN="H3 Church":MAILTO:hello@h3.church
END:VEVENT
BEGIN:VEVENT
DTSTART;TZID=America/New_York:20260614T090000
DTEND;TZID=America/New_York:20261011T110000
DTSTAMP:20260423T062059
CREATED:20260201T124531Z
LAST-MODIFIED:20260201T124531Z
UID:6645-1781427600-1791716400@www.h3.church
SUMMARY:God Man - Abiding in the tree of life
DESCRIPTION:
URL:https://www.h3.church/event/god-man-abiding-in-the-tree-of-life/2026-06-14/
LOCATION:H3 Church\, 1630 S. Church St\, Ste. 112-114\, Murfreesboro\, TN\, 37130\, United States
CATEGORIES:Sunday Event
ATTACH;FMTTYPE=image/png:https://www.h3.church/wp-content/uploads/2026/02/Media.png
END:VEVENT
BEGIN:VEVENT
DTSTART;TZID=America/New_York:20260614T110000
DTEND;TZID=America/New_York:20260614T130000
DTSTAMP:20260423T062059
CREATED:20260201T124531Z
LAST-MODIFIED:20260201T124531Z
UID:6646-1781434800-1781442000@www.h3.church
SUMMARY:God Man - Abiding in the tree of life
DESCRIPTION:
URL:https://www.h3.church/event/god-man-abiding-in-the-tree-of-life/2026-06-14/8/
LOCATION:H3 Church\, 1630 S. Church St\, Ste. 112-114\, Murfreesboro\, TN\, 37130\, United States
CATEGORIES:Sunday Event
ATTACH;FMTTYPE=image/png:https://www.h3.church/wp-content/uploads/2026/02/Media.png
END:VEVENT
BEGIN:VEVENT
DTSTART;TZID=America/New_York:20260617T180000
DTEND;TZID=America/New_York:20260617T210000
DTSTAMP:20260423T062059
CREATED:20260421T155535Z
LAST-MODIFIED:20260422T162856Z
UID:6627-1781719200-1781730000@www.h3.church
SUMMARY:EXPOUND - The second step of the Discipleship Pathway
DESCRIPTION:Join H3 for EXPOUND\, a 6-week class designed to help deepen your understanding of life in Christ and mature your walk with Christ.
URL:https://www.h3.church/event/expound/2026-06-17/
LOCATION:H3 Church\, 1630 S. Church St\, Ste. 112-114\, Murfreesboro\, TN\, 37130\, United States
ATTACH;FMTTYPE=image/jpeg:https://www.h3.church/wp-content/uploads/2026/04/Expound.jpeg
ORGANIZER;CN="H3 Church":MAILTO:hello@h3.church
END:VEVENT
BEGIN:VEVENT
DTSTART;TZID=America/New_York:20260621T090000
DTEND;TZID=America/New_York:20261018T110000
DTSTAMP:20260423T062059
CREATED:20260201T124531Z
LAST-MODIFIED:20260201T124531Z
UID:6647-1782032400-1792321200@www.h3.church
SUMMARY:God Man - Abiding in the tree of life
DESCRIPTION:
URL:https://www.h3.church/event/god-man-abiding-in-the-tree-of-life/2026-06-21/
LOCATION:H3 Church\, 1630 S. Church St\, Ste. 112-114\, Murfreesboro\, TN\, 37130\, United States
CATEGORIES:Sunday Event
ATTACH;FMTTYPE=image/png:https://www.h3.church/wp-content/uploads/2026/02/Media.png
END:VEVENT
BEGIN:VEVENT
DTSTART;TZID=America/New_York:20260621T110000
DTEND;TZID=America/New_York:20260621T130000
DTSTAMP:20260423T062059
CREATED:20260201T124531Z
LAST-MODIFIED:20260201T124531Z
UID:6648-1782039600-1782046800@www.h3.church
SUMMARY:God Man - Abiding in the tree of life
DESCRIPTION:
URL:https://www.h3.church/event/god-man-abiding-in-the-tree-of-life/2026-06-21/9/
LOCATION:H3 Church\, 1630 S. Church St\, Ste. 112-114\, Murfreesboro\, TN\, 37130\, United States
CATEGORIES:Sunday Event
ATTACH;FMTTYPE=image/png:https://www.h3.church/wp-content/uploads/2026/02/Media.png
END:VEVENT
BEGIN:VEVENT
DTSTART;TZID=America/New_York:20260624T180000
DTEND;TZID=America/New_York:20260624T210000
DTSTAMP:20260423T062059
CREATED:20260421T155535Z
LAST-MODIFIED:20260422T162857Z
UID:6628-1782324000-1782334800@www.h3.church
SUMMARY:EXPOUND - The second step of the Discipleship Pathway
DESCRIPTION:Join H3 for EXPOUND\, a 6-week class designed to help deepen your understanding of life in Christ and mature your walk with Christ.
URL:https://www.h3.church/event/expound/2026-06-24/
LOCATION:H3 Church\, 1630 S. Church St\, Ste. 112-114\, Murfreesboro\, TN\, 37130\, United States
ATTACH;FMTTYPE=image/jpeg:https://www.h3.church/wp-content/uploads/2026/04/Expound.jpeg
ORGANIZER;CN="H3 Church":MAILTO:hello@h3.church
END:VEVENT
BEGIN:VEVENT
DTSTART;TZID=America/New_York:20260628T090000
DTEND;TZID=America/New_York:20261025T110000
DTSTAMP:20260423T062059
CREATED:20260201T124531Z
LAST-MODIFIED:20260201T124531Z
UID:6649-1782637200-1792926000@www.h3.church
SUMMARY:God Man - Abiding in the tree of life
DESCRIPTION:
URL:https://www.h3.church/event/god-man-abiding-in-the-tree-of-life/2026-06-28/
LOCATION:H3 Church\, 1630 S. Church St\, Ste. 112-114\, Murfreesboro\, TN\, 37130\, United States
CATEGORIES:Sunday Event
ATTACH;FMTTYPE=image/png:https://www.h3.church/wp-content/uploads/2026/02/Media.png
END:VEVENT
BEGIN:VEVENT
DTSTART;TZID=America/New_York:20260628T110000
DTEND;TZID=America/New_York:20260628T130000
DTSTAMP:20260423T062059
CREATED:20260201T124531Z
LAST-MODIFIED:20260201T124531Z
UID:6650-1782644400-1782651600@www.h3.church
SUMMARY:God Man - Abiding in the tree of life
DESCRIPTION:
URL:https://www.h3.church/event/god-man-abiding-in-the-tree-of-life/2026-06-28/10/
LOCATION:H3 Church\, 1630 S. Church St\, Ste. 112-114\, Murfreesboro\, TN\, 37130\, United States
CATEGORIES:Sunday Event
ATTACH;FMTTYPE=image/png:https://www.h3.church/wp-content/uploads/2026/02/Media.png
END:VEVENT
BEGIN:VEVENT
DTSTART;TZID=America/New_York:20260705T090000
DTEND;TZID=America/New_York:20261101T110000
DTSTAMP:20260423T062059
CREATED:20260201T124531Z
LAST-MODIFIED:20260201T124531Z
UID:6651-1783242000-1793530800@www.h3.church
SUMMARY:God Man - Abiding in the tree of life
DESCRIPTION:
URL:https://www.h3.church/event/god-man-abiding-in-the-tree-of-life/2026-07-05/
LOCATION:H3 Church\, 1630 S. Church St\, Ste. 112-114\, Murfreesboro\, TN\, 37130\, United States
CATEGORIES:Sunday Event
ATTACH;FMTTYPE=image/png:https://www.h3.church/wp-content/uploads/2026/02/Media.png
END:VEVENT
END:VCALENDAR