BEGIN:VCALENDAR
VERSION:2.0
PRODID:-//His Holy Hill Church - ECPv6.15.0//NONSGML v1.0//EN
CALSCALE:GREGORIAN
METHOD:PUBLISH
X-WR-CALNAME:His Holy Hill Church
X-ORIGINAL-URL:https://www.h3.church
X-WR-CALDESC:Events for His Holy Hill Church
REFRESH-INTERVAL;VALUE=DURATION:PT1H
X-Robots-Tag:noindex
X-PUBLISHED-TTL:PT1H
BEGIN:VTIMEZONE
TZID:America/New_York
BEGIN:DAYLIGHT
TZOFFSETFROM:-0500
TZOFFSETTO:-0400
TZNAME:EDT
DTSTART:20260308T070000
END:DAYLIGHT
BEGIN:STANDARD
TZOFFSETFROM:-0400
TZOFFSETTO:-0500
TZNAME:EST
DTSTART:20261101T060000
END:STANDARD
END:VTIMEZONE
BEGIN:VEVENT
DTSTART;TZID=America/New_York:20260520T180000
DTEND;TZID=America/New_York:20260520T210000
DTSTAMP:20260422T154055
CREATED:20260421T155535Z
LAST-MODIFIED:20260422T162855Z
UID:6606-1779300000-1779310800@www.h3.church
SUMMARY:EXPOUND - The second step of the Discipleship Pathway
DESCRIPTION:Join H3 for EXPOUND\, a 6-week class designed to help deepen your understanding of life in Christ and mature your walk with Christ.
URL:https://www.h3.church/event/expound/2026-05-20/
LOCATION:H3 Church\, 1630 S. Church St\, Ste. 112-114\, Murfreesboro\, TN\, 37130\, United States
ATTACH;FMTTYPE=image/jpeg:https://www.h3.church/wp-content/uploads/2026/04/Expound.jpeg
ORGANIZER;CN="H3 Church":MAILTO:hello@h3.church
END:VEVENT
BEGIN:VEVENT
DTSTART;TZID=America/New_York:20260527T180000
DTEND;TZID=America/New_York:20260527T210000
DTSTAMP:20260422T154055
CREATED:20260421T155535Z
LAST-MODIFIED:20260422T162855Z
UID:6624-1779904800-1779915600@www.h3.church
SUMMARY:EXPOUND - The second step of the Discipleship Pathway
DESCRIPTION:Join H3 for EXPOUND\, a 6-week class designed to help deepen your understanding of life in Christ and mature your walk with Christ.
URL:https://www.h3.church/event/expound/2026-05-27/
LOCATION:H3 Church\, 1630 S. Church St\, Ste. 112-114\, Murfreesboro\, TN\, 37130\, United States
ATTACH;FMTTYPE=image/jpeg:https://www.h3.church/wp-content/uploads/2026/04/Expound.jpeg
ORGANIZER;CN="H3 Church":MAILTO:hello@h3.church
END:VEVENT
BEGIN:VEVENT
DTSTART;TZID=America/New_York:20260603T180000
DTEND;TZID=America/New_York:20260603T210000
DTSTAMP:20260422T154055
CREATED:20260421T155535Z
LAST-MODIFIED:20260422T162855Z
UID:6625-1780509600-1780520400@www.h3.church
SUMMARY:EXPOUND - The second step of the Discipleship Pathway
DESCRIPTION:Join H3 for EXPOUND\, a 6-week class designed to help deepen your understanding of life in Christ and mature your walk with Christ.
URL:https://www.h3.church/event/expound/2026-06-03/
LOCATION:H3 Church\, 1630 S. Church St\, Ste. 112-114\, Murfreesboro\, TN\, 37130\, United States
ATTACH;FMTTYPE=image/jpeg:https://www.h3.church/wp-content/uploads/2026/04/Expound.jpeg
ORGANIZER;CN="H3 Church":MAILTO:hello@h3.church
END:VEVENT
BEGIN:VEVENT
DTSTART;TZID=America/New_York:20260610T180000
DTEND;TZID=America/New_York:20260610T210000
DTSTAMP:20260422T154055
CREATED:20260421T155535Z
LAST-MODIFIED:20260422T162856Z
UID:6626-1781114400-1781125200@www.h3.church
SUMMARY:EXPOUND - The second step of the Discipleship Pathway
DESCRIPTION:Join H3 for EXPOUND\, a 6-week class designed to help deepen your understanding of life in Christ and mature your walk with Christ.
URL:https://www.h3.church/event/expound/2026-06-10/
LOCATION:H3 Church\, 1630 S. Church St\, Ste. 112-114\, Murfreesboro\, TN\, 37130\, United States
ATTACH;FMTTYPE=image/jpeg:https://www.h3.church/wp-content/uploads/2026/04/Expound.jpeg
ORGANIZER;CN="H3 Church":MAILTO:hello@h3.church
END:VEVENT
BEGIN:VEVENT
DTSTART;TZID=America/New_York:20260617T180000
DTEND;TZID=America/New_York:20260617T210000
DTSTAMP:20260422T154055
CREATED:20260421T155535Z
LAST-MODIFIED:20260422T162856Z
UID:6627-1781719200-1781730000@www.h3.church
SUMMARY:EXPOUND - The second step of the Discipleship Pathway
DESCRIPTION:Join H3 for EXPOUND\, a 6-week class designed to help deepen your understanding of life in Christ and mature your walk with Christ.
URL:https://www.h3.church/event/expound/2026-06-17/
LOCATION:H3 Church\, 1630 S. Church St\, Ste. 112-114\, Murfreesboro\, TN\, 37130\, United States
ATTACH;FMTTYPE=image/jpeg:https://www.h3.church/wp-content/uploads/2026/04/Expound.jpeg
ORGANIZER;CN="H3 Church":MAILTO:hello@h3.church
END:VEVENT
BEGIN:VEVENT
DTSTART;TZID=America/New_York:20260624T180000
DTEND;TZID=America/New_York:20260624T210000
DTSTAMP:20260422T154055
CREATED:20260421T155535Z
LAST-MODIFIED:20260422T162857Z
UID:6628-1782324000-1782334800@www.h3.church
SUMMARY:EXPOUND - The second step of the Discipleship Pathway
DESCRIPTION:Join H3 for EXPOUND\, a 6-week class designed to help deepen your understanding of life in Christ and mature your walk with Christ.
URL:https://www.h3.church/event/expound/2026-06-24/
LOCATION:H3 Church\, 1630 S. Church St\, Ste. 112-114\, Murfreesboro\, TN\, 37130\, United States
ATTACH;FMTTYPE=image/jpeg:https://www.h3.church/wp-content/uploads/2026/04/Expound.jpeg
ORGANIZER;CN="H3 Church":MAILTO:hello@h3.church
END:VEVENT
END:VCALENDAR